BEGIN:VCALENDAR
VERSION:2.0
PRODID:-//CERN//INDICO//EN
BEGIN:VEVENT
SUMMARY:( لمنسوبي جامعة بغداد)دورة التأهيل ا
 لتربوي(282) ودورة اللغة العربية للتدريسيي
 ن (256)
DTSTART;VALUE=DATE-TIME:20211204T130000Z
DTEND;VALUE=DATE-TIME:20211216T150000Z
DTSTAMP;VALUE=DATE-TIME:20210910T055819Z
UID:indico-event-2544@events.uobaghdad.edu.iq
DESCRIPTION: دليل دورات  منسوبي جامعة بغداد ل
 لنصف الثاني  2021\n\n\n\n\n\n\n\nالرجاء مراجعة ال
 دليل لغرض معرفة أسعار الدورات المعلن عنه
 ا\n\nhttps://events.uobaghdad.edu.iq/event/2544/
LOCATION:دورة التأهيل التربوي واللغة العربي
 ة
URL:https://events.uobaghdad.edu.iq/event/2544/
END:VEVENT
END:VCALENDAR
