BEGIN:VCALENDAR
VERSION:2.0
PRODID:-//CERN//INDICO//EN
BEGIN:VEVENT
SUMMARY:(لمنسوبي جامعة بغداد) كيفية تنظيم ال
 سجلات
DTSTART;VALUE=DATE-TIME:20211114T130000Z
DTEND;VALUE=DATE-TIME:20211118T150000Z
DTSTAMP;VALUE=DATE-TIME:20210908T033552Z
UID:indico-event-2476@events.uobaghdad.edu.iq
DESCRIPTION: دليل دورات  منسوبي جامعة بغداد ل
 لنصف الثاني  2021\n\n\n\n \n\n\n\n\n\nالرجاء مراجع
 ة الدليل لغرض معرفة أسعار الدورات المعلن
  عنها\n\nhttps://events.uobaghdad.edu.iq/event/2476/
LOCATION:الدورات الادارية
URL:https://events.uobaghdad.edu.iq/event/2476/
END:VEVENT
END:VCALENDAR
