BEGIN:VCALENDAR
VERSION:2.0
PRODID:-//CERN//INDICO//EN
BEGIN:VEVENT
SUMMARY:مهارات في التوجيه والارشاد التربوي 
 لاولياء الامور في التعامل الايجابي مع ال
 اطفال والمراهقون
DTSTART;VALUE=DATE-TIME:20211114T130000Z
DTEND;VALUE=DATE-TIME:20211125T150000Z
DTSTAMP;VALUE=DATE-TIME:20210908T185535Z
UID:indico-event-2447@events.uobaghdad.edu.iq
DESCRIPTION: دليل دورات  لمؤسسات الدولة والوز
 ارات كافة  للنصف الثاني  2021\n\n\n\n \n\n\n\n\n\nا
 لرجاء مراجعة الدليل لغرض معرفة أسعار الد
 ورات المعلن عنها\n\nhttps://events.uobaghdad.edu.iq/event/24
 47/
LOCATION:الدورات الادارية
URL:https://events.uobaghdad.edu.iq/event/2447/
END:VEVENT
END:VCALENDAR
