BEGIN:VCALENDAR
VERSION:2.0
PRODID:-//CERN//INDICO//EN
BEGIN:VEVENT
SUMMARY:اللغة الانكليزية للمستوى المتوسط
DTSTART;VALUE=DATE-TIME:20211226T130000Z
DTEND;VALUE=DATE-TIME:20211230T150000Z
DTSTAMP;VALUE=DATE-TIME:20210912T083636Z
UID:indico-event-2442@events.uobaghdad.edu.iq
DESCRIPTION: دليل دورات  لمؤسسات الدولة والوز
 ارات كافة  للنصف الثاني  2021\n\n\n\n \n\n\n\n\n\nا
 لرجاء مراجعة الدليل لغرض معرفة أسعار الد
 ورات المعلن عنها\n\nhttps://events.uobaghdad.edu.iq/event/24
 42/
LOCATION:الدورات الادارية
URL:https://events.uobaghdad.edu.iq/event/2442/
END:VEVENT
END:VCALENDAR
