BEGIN:VCALENDAR
VERSION:2.0
PRODID:-//CERN//INDICO//EN
BEGIN:VEVENT
SUMMARY:القيادة وادارة التغيير
DTSTART;VALUE=DATE-TIME:20210912T130000Z
DTEND;VALUE=DATE-TIME:20210916T150000Z
DTSTAMP;VALUE=DATE-TIME:20210822T191222Z
UID:indico-event-2394@events.uobaghdad.edu.iq
DESCRIPTION: دليل دورات  لمؤسسات الدولة والوز
 ارات كافة  للنصف الثاني  2021\n\n\n\n \n\n\n\n\n\nا
 لرجاء مراجعة الدليل لغرض معرفة أسعار الد
 ورات المعلن عنها\n\nhttps://events.uobaghdad.edu.iq/event/23
 94/
LOCATION:الدورات الادارية
URL:https://events.uobaghdad.edu.iq/event/2394/
END:VEVENT
END:VCALENDAR
