BEGIN:VCALENDAR
VERSION:2.0
PRODID:-//CERN//INDICO//EN
BEGIN:VEVENT
SUMMARY:( لمنسوبي جامعة بغداد)تضمين الموظف ا
 لعام – الإجراءات والضمانات
DTSTART;VALUE=DATE-TIME:20211219T130000Z
DTEND;VALUE=DATE-TIME:20211223T150000Z
DTSTAMP;VALUE=DATE-TIME:20210911T183332Z
UID:indico-event-2345@events.uobaghdad.edu.iq
DESCRIPTION: دليل دورات  منسوبي جامعة بغداد ل
 لنصف الثاني  2021\n\n\n\n \n\n\n\n\n\nالرجاء مراجع
 ة الدليل لغرض معرفة أسعار الدورات المعلن
  عنها\n\nhttps://events.uobaghdad.edu.iq/event/2345/
LOCATION:الدورات الادارية
URL:https://events.uobaghdad.edu.iq/event/2345/
END:VEVENT
END:VCALENDAR
