BEGIN:VCALENDAR
VERSION:2.0
PRODID:-//CERN//INDICO//EN
BEGIN:VEVENT
SUMMARY:( لمنسوبي جامعة بغداد)أسس الإدارة ال
 ناجحة
DTSTART;VALUE=DATE-TIME:20210808T130000Z
DTEND;VALUE=DATE-TIME:20210812T150000Z
DTSTAMP;VALUE=DATE-TIME:20210817T124043Z
UID:indico-event-2311@events.uobaghdad.edu.iq
DESCRIPTION: دليل دورات  منسوبي جامعة بغداد ل
 لنصف الثاني  2021\n\n\n\n \n\n\n\nالرجاء مراجعة ا
 لدليل لغرض معرفة أسعار الدورات المعلن عن
 ها\n\nhttps://events.uobaghdad.edu.iq/event/2311/
LOCATION:الدورات الادارية
URL:https://events.uobaghdad.edu.iq/event/2311/
END:VEVENT
END:VCALENDAR
