BEGIN:VCALENDAR
VERSION:2.0
PRODID:-//CERN//INDICO//EN
BEGIN:VEVENT
SUMMARY:مهارات كتبة البحث العلمي
DTSTART;VALUE=DATE-TIME:20210909T140000Z
DTEND;VALUE=DATE-TIME:20210909T160000Z
DTSTAMP;VALUE=DATE-TIME:20210915T182238Z
UID:indico-event-1637@events.uobaghdad.edu.iq
DESCRIPTION:https://events.uobaghdad.edu.iq/event/1637/
LOCATION:
URL:https://events.uobaghdad.edu.iq/event/1637/
END:VEVENT
END:VCALENDAR
