BEGIN:VCALENDAR
VERSION:2.0
PRODID:-//CERN//INDICO//EN
BEGIN:VEVENT
SUMMARY:منظومة البلازمة المختبرية
DTSTART;VALUE=DATE-TIME:20210907T060000Z
DTEND;VALUE=DATE-TIME:20210907T080000Z
DTSTAMP;VALUE=DATE-TIME:20210915T124620Z
UID:indico-event-1524@events.uobaghdad.edu.iq
DESCRIPTION:https://events.uobaghdad.edu.iq/event/1524/
LOCATION:
URL:https://events.uobaghdad.edu.iq/event/1524/
END:VEVENT
END:VCALENDAR
