BEGIN:VCALENDAR
VERSION:2.0
PRODID:-//CERN//INDICO//EN
BEGIN:VEVENT
SUMMARY:(Current Challenges and Updates in Pharmacy Education and Research
 )
DTSTART;VALUE=DATE-TIME:20210825T000500Z
DTEND;VALUE=DATE-TIME:20210826T170000Z
DTSTAMP;VALUE=DATE-TIME:20210820T111200Z
UID:indico-event-1012@events.uobaghdad.edu.iq
DESCRIPTION:\n\n\n\n\nCollege of Pharmacy – University of Baghdad\n\nHel
 d 9TH Scientific Conference on \n\n(Current Challenges and Updates in Phar
 macy Education and Research)\n\nin August 25-26\, 2021 (Virtual)\n\nManus
 cript Submission:  \n\n- The authors should determine the track of his ma
 nuscript (See conference tracks).\n\n- The submitted manuscripts must not 
 be previously published. \n\n- All manuscripts are presented to the scient
 ific committee of the conference to determine the appropriateness of the r
 esearch to participate.\n\n- All submitted papers are sent to three review
 ers to undergo a double-blind peer review process. At least two responses 
 should be received for the decision to be taken.\n\n- The accepted manuscr
 ipts are presented either during conference session or as poster.\n\n- Acc
 epted manuscript will be published in the Iraqi Journal of Pharmaceutical 
 Sciences (IJPS) (Scopus indexed)\n\n- The Manuscript's abstracts are sent 
 within the conference submission link\, and the full text sent via a confe
 rence email.\n\nGuidelines for Author: click here https://bijps.uobaghdad.
 edu.iq/index.php/bijps/Guidelines\n\n\nThe conference proceedings will be 
 held on the Zoom platform\, according to the entry information below:\n\n\
 n\nhttps://events.uobaghdad.edu.iq/event/1012/
LOCATION:كلية الصيدلة
URL:https://events.uobaghdad.edu.iq/event/1012/
END:VEVENT
BEGIN:VEVENT
SUMMARY:الريادة والابداع في بناء السياسات و
 الاستراتيجيات المالية والمحاسبية في الو
 حدات الاقتصادية
DTSTART;VALUE=DATE-TIME:20210825T050000Z
DTEND;VALUE=DATE-TIME:20210826T120000Z
DTSTAMP;VALUE=DATE-TIME:20210820T111200Z
UID:indico-event-298@events.uobaghdad.edu.iq
DESCRIPTION:ملاحظة مهمة:- تم تأجيل موعد أنعقاد
  المؤتمر الدولي الثاني – الوطني الرابع ت
 حت عنوان ” الريادة والأبداع في بناء السي
 اسات والأستراتيجيات المالية والمحاسبية 
 في الوحدات الأقتصادية” المزمع عقده بتار
 يخ 16-2021/6/17 الى الموعد الجديد بتاريخ 25-2021/8/
 26. وذلك لعدم ورود أجابة المجلة ضمن مستوع
 بات سكوباس التي تم مفاتحتها لغرض نشر بحو
 ث المؤتمر فيها ولغرض منح فرصة للباحثين ل
 لمشاركة بالمؤتمر.\n\nDear Researcher\,\nWe would like to in
 form you that the date of our conference had been postponed to a new date 
 on 25-26/August/2021.\n\nYour submitted research is of great interest to u
 s.\nIf you have any questions\, you can contact us by scientific.support@
 pgiafs.uobaghdad.edu.iq\n\nYour stay with us and your attendance at the co
 nference will bring us happiness and pleasure.\n\nBest wishes.\n\nConferen
 ce organizing committee.\nhttps://events.uobaghdad.edu.iq/event/298/
LOCATION:المعهد العالي للدراسات المحاسبية
URL:https://events.uobaghdad.edu.iq/event/298/
END:VEVENT
BEGIN:VEVENT
SUMMARY:المؤتمر العالمي الثالث لعلوم الفيزي
 اء والمواد المتقدمة 3rd International Conference in Physi
 cal Science and advanced Materials - PAM 2021  و
DTSTART;VALUE=DATE-TIME:20210924T060000Z
DTEND;VALUE=DATE-TIME:20210928T080000Z
DTSTAMP;VALUE=DATE-TIME:20210820T111200Z
UID:indico-event-1882@events.uobaghdad.edu.iq
DESCRIPTION:https://events.uobaghdad.edu.iq/event/1882/
LOCATION:تركيا
URL:https://events.uobaghdad.edu.iq/event/1882/
END:VEVENT
BEGIN:VEVENT
SUMMARY:المؤتمر السنوي العلمي لكلية الطب ال
 بيطري/ جامعة بغداد
DTSTART;VALUE=DATE-TIME:20211115T050000Z
DTEND;VALUE=DATE-TIME:20211115T120000Z
DTSTAMP;VALUE=DATE-TIME:20210820T111200Z
UID:indico-event-859@events.uobaghdad.edu.iq
DESCRIPTION:https://events.uobaghdad.edu.iq/event/859/
LOCATION:كلية الطب البيطري
URL:https://events.uobaghdad.edu.iq/event/859/
END:VEVENT
BEGIN:VEVENT
SUMMARY:الاعلام والازمات المؤتمر العلمي الس
 نوي الرابع عشر والدولي الثالث
DTSTART;VALUE=DATE-TIME:20211123T100000Z
DTEND;VALUE=DATE-TIME:20211124T120000Z
DTSTAMP;VALUE=DATE-TIME:20210820T111200Z
UID:indico-event-1959@events.uobaghdad.edu.iq
DESCRIPTION:https://events.uobaghdad.edu.iq/event/1959/
LOCATION:
URL:https://events.uobaghdad.edu.iq/event/1959/
END:VEVENT
BEGIN:VEVENT
SUMMARY:المؤتمر العلمي الدولي الاول للتاريخ
  الطبيعي والحياة البرية
DTSTART;VALUE=DATE-TIME:20211124T060000Z
DTEND;VALUE=DATE-TIME:20211125T100000Z
DTSTAMP;VALUE=DATE-TIME:20210820T111200Z
UID:indico-event-83@events.uobaghdad.edu.iq
DESCRIPTION:Speakers: Iraq natural history  research center & museum NHM (
 University of Baghdad \\ Natural History Research Center & Museum)\nغير
  منجز \nhttps://events.uobaghdad.edu.iq/event/83/
LOCATION:مركز بحوث ومتحف التاريخ الطبيعي / جا
 معة بغداد 
URL:https://events.uobaghdad.edu.iq/event/83/
END:VEVENT
BEGIN:VEVENT
SUMMARY:"المؤتمر العلمي السنوي لكلية الطب وا
 لذي ستنشر بحوثه في المجلة العلمية الموسو
 مة Journal of Contemporary Medical Sciences وهي ضمن مستوعب (
 Clarivate) وليس لديها (Impact factor)"
DTSTART;VALUE=DATE-TIME:20211129T060000Z
DTEND;VALUE=DATE-TIME:20211130T110000Z
DTSTAMP;VALUE=DATE-TIME:20210820T111200Z
UID:indico-event-1699@events.uobaghdad.edu.iq
DESCRIPTION:https://events.uobaghdad.edu.iq/event/1699/
LOCATION:كلية الطب/قاعة المؤتمرات الكبرى
URL:https://events.uobaghdad.edu.iq/event/1699/
END:VEVENT
BEGIN:VEVENT
SUMMARY:المؤتمر المركزي الخاص بالمركز / المر
 اة وازمات الواقع الراهن من التحديات الى 
 الفرص
DTSTART;VALUE=DATE-TIME:20211201T060000Z
DTEND;VALUE=DATE-TIME:20211201T100000Z
DTSTAMP;VALUE=DATE-TIME:20210820T111200Z
UID:indico-event-2138@events.uobaghdad.edu.iq
DESCRIPTION:https://events.uobaghdad.edu.iq/event/2138/
LOCATION:مركز دراسات المرأة
URL:https://events.uobaghdad.edu.iq/event/2138/
END:VEVENT
BEGIN:VEVENT
SUMMARY:المنهج الإسلامي في مواجهة الفتن وال
 محن بين حتمية (الواقع والتطلعات)
DTSTART;VALUE=DATE-TIME:20211202T090000Z
DTEND;VALUE=DATE-TIME:20211202T110000Z
DTSTAMP;VALUE=DATE-TIME:20210820T111200Z
UID:indico-event-1351@events.uobaghdad.edu.iq
DESCRIPTION:يهدف المؤتمر الى\n1- بيان دور المنه
 ج الاسلامي لعلاج الأزمات ومواجهة المحن و
 الذي سار على هديه قادة الأمة على مدى أربع
 ة عشر قرنا من الزمان، لم تضعف الأمة أو تن
 هار، ولم تتكالب عليها الأمم إلا حين تناز
 لت وتخلت عن ذلك المنهج.\n2- التأصيل لمفهوم
 ي الفتنة والمحنة في التراث العربي والإسل
 امي. \n3- تذكير المسلم بضرورة اللجوء الدائ
 م إلى الله تعالى زمن الفتن والأزمات، فقل
 ب الإنسان يكون أقرب إلى خالقه عند الشدة و
 المحنة، يسأله الثبات على الحق وعدم الانج
 رار وراء الانحرافات والمغالطات. \n4- التأ
 كيد على أن المنهج الإسلامي منهج رباني شا
 مل لجميع جوانب الحياة، وهو الطريق الأمثل
  لمعالجة المشكلات التربوية والاجتماعية 
 والاقتصادية. \n5- دعوة وسائل الإعلام المخ
 تلفة على تضمين برامجها مواداً إعلامية من
 اسبة لكل مرحلة، يكون مضمونها التوعية بأه
 مية المنهج الإسلامي، وتوحيد الخطاب الدي
 ني الداعي إلى التحذير من الفرقة والاختلا
 ف، والنهوض بوطن مستقر وآمن.\nhttps://events.uobaghda
 d.edu.iq/event/1351/
LOCATION:كلية التربية للبنات
URL:https://events.uobaghdad.edu.iq/event/1351/
END:VEVENT
BEGIN:VEVENT
SUMMARY:المؤتمر الرابع عشر للدراسات العليا
DTSTART;VALUE=DATE-TIME:20211208T060000Z
DTEND;VALUE=DATE-TIME:20211209T140000Z
DTSTAMP;VALUE=DATE-TIME:20210820T111200Z
UID:indico-event-200@events.uobaghdad.edu.iq
DESCRIPTION:https://events.uobaghdad.edu.iq/event/200/
LOCATION:كلية طب الاسنان
URL:https://events.uobaghdad.edu.iq/event/200/
END:VEVENT
BEGIN:VEVENT
SUMMARY:التطورات المعرفية والمنهجية في العل
 وم السياسية
DTSTART;VALUE=DATE-TIME:20211221T060000Z
DTEND;VALUE=DATE-TIME:20211223T110000Z
DTSTAMP;VALUE=DATE-TIME:20210820T111200Z
UID:indico-event-665@events.uobaghdad.edu.iq
DESCRIPTION:https://events.uobaghdad.edu.iq/event/665/
LOCATION:كلية العلوم السياسية
URL:https://events.uobaghdad.edu.iq/event/665/
END:VEVENT
END:VCALENDAR
